BEGIN:VCALENDAR
VERSION:2.0
PRODID:-//Squarespace Inc/Squarespace 6//v6//EN
BEGIN:VEVENT
UID:5cb5931753450a5cb3ece404@squarespace.com
DTSTAMP:20190706T045002Z
DTSTART:20190417T213000Z
DTEND:20190417T233000Z
SUMMARY:TYP Money Management Panel
GEO:-39.055625;174.075228
LOCATION:The Devon Hotel\, New Plymouth\, New Zealand
END:VEVENT
END:VCALENDAR
