BEGIN:VCALENDAR
VERSION:2.0
PRODID:-//Squarespace Inc/Squarespace 6//v6//EN
BEGIN:VEVENT
UID:5d202c5fad19550001122029@squarespace.com
DTSTAMP:20190711T035715Z
DTSTART:20190730T053000Z
DTEND:20190730T073000Z
SUMMARY:TYP &amp\; CA ANZ LinkedIn Workshop
GEO:-39.058037;174.072757
LOCATION:Johnson Corner\, 50 Devon Street West\, New Plymouth\, Taranaki\, 
 4310\, New Zealand
END:VEVENT
END:VCALENDAR
