BEGIN:VCALENDAR
VERSION:2.0
PRODID:-//Squarespace Inc/Squarespace 6//v6//EN
BEGIN:VEVENT
UID:5d2026c8363b210001930771@squarespace.com
DTSTAMP:20190706T044524Z
DTSTART:20190320T043000Z
DTEND:20190320T073000Z
SUMMARY:TYP Beer Tasting
GEO:-39.056256;174.080099
LOCATION:Mike's Bistro\, 186 Devon Street East\, New Plymouth\, Taranaki\, 
 4310\, New Zealand
END:VEVENT
END:VCALENDAR
