BEGIN:VCALENDAR
VERSION:2.0
PRODID:-//Squarespace Inc/Squarespace 6//v6//EN
BEGIN:VEVENT
UID:5dbfef96b039fb192a58046e@squarespace.com
DTSTAMP:20191104T093422Z
DTSTART:20191112T043000Z
DTEND:20191112T060000Z
SUMMARY:TYP AGM 2019
GEO:-39.057439;174.068269
LOCATION:BDO\, 10 Young Street\, New Plymouth\, Taranaki\, 4310\, New Zeala
 nd
END:VEVENT
END:VCALENDAR
