BEGIN:VCALENDAR
VERSION:2.0
PRODID:-//Squarespace Inc/Squarespace 6//v6//EN
BEGIN:VEVENT
UID:5d37ef68d7f7390001739aa5@squarespace.com
DTSTAMP:20190728T095715Z
DTSTART:20190802T053000Z
DTEND:20190802T073000Z
SUMMARY:TYP After work drinks at Crowded House
GEO:-39.056735;174.077086
LOCATION:Crowded House\, 93-99 Devon Street East\, New Plymouth\, Taranaki\
 , 4310\, New Zealand
END:VEVENT
END:VCALENDAR
