BEGIN:VCALENDAR
VERSION:2.0
PRODID:-//Squarespace Inc/Squarespace 6//v6//EN
BEGIN:VEVENT
UID:5d3bceb7a6cf2d00017839c9@squarespace.com
DTSTAMP:20190728T203052Z
DTSTART:20190928T060000Z
DTEND:20190928T113000Z
SUMMARY:Stephanie Murray Mortgages TYP Masquerade Ball
GEO:-39.053494;174.089244
LOCATION:The Devon Hotel\, 390 Devon Street East\, New Plymouth\, Taranaki\
 , 4312\, New Zealand
END:VEVENT
END:VCALENDAR
