BEGIN:VCALENDAR
VERSION:2.0
PRODID:-//Squarespace Inc/Squarespace 6//v6//EN
BEGIN:VEVENT
UID:5d20289eeb83b800010a782d@squarespace.com
DTSTAMP:20190706T045604Z
DTSTART:20190528T053000Z
DTEND:20190528T070000Z
SUMMARY:RMY Legal TYP First Home Buyers Panel
GEO:-39.053494;174.089244
LOCATION:The Devon Hotel\, 390 Devon Street East\, New Plymouth\, Taranaki\
 , 4312\, New Zealand
END:VEVENT
END:VCALENDAR
