BEGIN:VCALENDAR
VERSION:2.0
PRODID:-//Squarespace Inc/Squarespace 6//v6//EN
BEGIN:VEVENT
UID:5d202024363b21000192bf11@squarespace.com
DTSTAMP:20190706T042205Z
DTSTART:20190213T043000Z
DTEND:20190213T070000Z
SUMMARY:TYP Pizza Picnic
GEO:-39.088791;174.108559
LOCATION:Tupare Gardens\, 487 Mangorei Road\, New Plymouth\, Taranaki\, 431
 2\, New Zealand
END:VEVENT
END:VCALENDAR
