BEGIN:VCALENDAR
VERSION:2.0
PRODID:-//Squarespace Inc/Squarespace 6//v6//EN
BEGIN:VEVENT
UID:5d20154d59005400014d642d@squarespace.com
DTSTAMP:20190706T033641Z
DTSTART:20190706T060000Z
DTEND:20190706T090000Z
SUMMARY:TYP Mid-Winter Christmas Dinner
GEO:-39.056256;174.080099
LOCATION:Mike's Bistro\, 186 Devon Street East\, New Plymouth\, Taranaki\, 
 4310\, New Zealand
END:VEVENT
END:VCALENDAR
