BEGIN:VCALENDAR
VERSION:2.0
PRODID:-//Squarespace Inc/Squarespace 6//v6//EN
BEGIN:VEVENT
UID:5d1b45307ef7ca00013d0678@squarespace.com
DTSTAMP:20190921T085225Z
DTSTART:20190925T193000Z
DTEND:20190925T203000Z
SUMMARY:September Casual Coffee Catch Up
GEO:-39.05855;174.072919
LOCATION:Chaos Cafe\, 36 Brougham Street\, New Plymouth\, Taranaki\, 4310\, 
 New Zealand
END:VEVENT
END:VCALENDAR
