BEGIN:VCALENDAR
VERSION:2.0
PRODID:-//Squarespace Inc/Squarespace 6//v6//EN
BEGIN:VEVENT
UID:5d2019b09813d80001b397b6@squarespace.com
DTSTAMP:20190706T034852Z
DTSTART:20190327T183000Z
DTEND:20190327T193000Z
SUMMARY:March Casual Coffee Catch Up
GEO:-39.056897;174.076382
LOCATION:Emmalou Macaron and Coffee House\, 69 Devon Street East\, New Plym
 outh\, Taranaki\, 4310\, New Zealand
END:VEVENT
END:VCALENDAR
