BEGIN:VCALENDAR
VERSION:2.0
PRODID:-//Squarespace Inc/Squarespace 6//v6//EN
BEGIN:VEVENT
UID:5d18876a84a155000113116c@squarespace.com
DTSTAMP:20190703T002259Z
DTSTART:20190724T193000Z
DTEND:20190724T203000Z
SUMMARY:July Casual Coffee Catch Up
GEO:-39.056502;174.075974
LOCATION:Escape Coffee Roasters\, 15 Liardet St\, New Plymouth\, New Zealan
 d
END:VEVENT
END:VCALENDAR
