BEGIN:VCALENDAR
VERSION:2.0
PRODID:-//Squarespace Inc/Squarespace 6//v6//EN
BEGIN:VEVENT
UID:5d1b41ae9a0a1c0001466b5d@squarespace.com
DTSTAMP:20190703T002147Z
DTSTART:20190828T193000Z
DTEND:20190828T203000Z
SUMMARY:August Casual Coffee Catch Up
GEO:-39.051966;174.093842
LOCATION:Federal Store\, 440 Devon Street East\, New Plymouth\, Taranaki\, 
 4312\, New Zealand
END:VEVENT
END:VCALENDAR
