BEGIN:VCALENDAR
VERSION:2.0
PRODID:-//Squarespace Inc/Squarespace 6//v6//EN
BEGIN:VEVENT
UID:5d2019389813d80001b3908a@squarespace.com
DTSTAMP:20190706T035057Z
DTSTART:20190424T193000Z
DTEND:20190424T203000Z
SUMMARY:April Casual Coffee Catch Up
GEO:-39.0582;174.070689
LOCATION:Ozone Coffee Roasters\, 47a King Street\, New Plymouth\, Taranaki\
 , 4310\, New Zealand
END:VEVENT
END:VCALENDAR
